BEGIN:VCALENDAR
VERSION:2.0
PRODID:-//Fox Valley Region - Porsche Club of America - ECPv6.15.18//NONSGML v1.0//EN
CALSCALE:GREGORIAN
METHOD:PUBLISH
X-WR-CALNAME:Fox Valley Region - Porsche Club of America
X-ORIGINAL-URL:https://fv.pca.org
X-WR-CALDESC:Events for Fox Valley Region - Porsche Club of America
REFRESH-INTERVAL;VALUE=DURATION:PT1H
X-Robots-Tag:noindex
X-PUBLISHED-TTL:PT1H
BEGIN:VTIMEZONE
TZID:America/Chicago
BEGIN:DAYLIGHT
TZOFFSETFROM:-0600
TZOFFSETTO:-0500
TZNAME:CDT
DTSTART:20250309T080000
END:DAYLIGHT
BEGIN:STANDARD
TZOFFSETFROM:-0500
TZOFFSETTO:-0600
TZNAME:CST
DTSTART:20251102T070000
END:STANDARD
BEGIN:DAYLIGHT
TZOFFSETFROM:-0600
TZOFFSETTO:-0500
TZNAME:CDT
DTSTART:20260308T080000
END:DAYLIGHT
BEGIN:STANDARD
TZOFFSETFROM:-0500
TZOFFSETTO:-0600
TZNAME:CST
DTSTART:20261101T070000
END:STANDARD
BEGIN:DAYLIGHT
TZOFFSETFROM:-0600
TZOFFSETTO:-0500
TZNAME:CDT
DTSTART:20270314T080000
END:DAYLIGHT
BEGIN:STANDARD
TZOFFSETFROM:-0500
TZOFFSETTO:-0600
TZNAME:CST
DTSTART:20271107T070000
END:STANDARD
END:VTIMEZONE
BEGIN:VEVENT
DTSTART;TZID=America/Chicago:20260912T080000
DTEND;TZID=America/Chicago:20260912T110000
DTSTAMP:20260423T101926
CREATED:20260226T223334Z
LAST-MODIFIED:20260226T223334Z
UID:41112-1789200000-1789210800@fv.pca.org
SUMMARY:Cars & Coffee at The Throttlestop
DESCRIPTION:Start Your Engines: Cars & Coffee at The Throttlestop\nPresented by Wegner Automotive\nPrepare for the most electric season in Throttlestop history! This year\, we are driving change with our new “Passion for Purpose” initiative\, proudly partnering with The United Way of Sheboygan County to give back to the community we call home. \nWe’ve assembled an elite lineup of sponsors to make this year better than ever. We are thrilled to welcome Wegner Automotive\, curators of some of the baddest racing engines on the planet\, as our title sponsor. Alongside them\, West Bend Dyno and Milwaukee Tool will be on-site with massive displays and some of the most exciting new builds in the country! \nThe Details:\n\n\nWhen:  Sat. September 12th\, 2026 8:00 AM to 11:00 AM\n\n\nThe Vibe: Jaw-dropping revs\, breathtaking displays\, and great conversation.\n\n\nFood: Fresh donuts from Johnston’s Bakery.\n\n\nFuel: Stone Creek Coffee\, provided by West Bend Dyno.\n\n\nCost: Free for the whole family!\n\n\nWhether you are here for the precision of a Wegner-built powerhouse or the latest gear from Milwaukee Tool\, you won’t want to miss this. Grab a coffee\, bring the family\, and let’s talk shop. See you at the showroom!
URL:https://fv.pca.org/index.php/calendar/cars-coffee-at-the-throttlestop-3/
LOCATION:WI
CATEGORIES:Non-PCA Event
END:VEVENT
BEGIN:VEVENT
DTSTART;VALUE=DATE:20260918
DTEND;VALUE=DATE:20260921
DTSTAMP:20260423T101926
CREATED:20260226T222049Z
LAST-MODIFIED:20260226T222049Z
UID:41098-1789689600-1789948799@fv.pca.org
SUMMARY:Art on Wheels Vintage Weekend at Road America
DESCRIPTION:Art on Wheels Vintage Weekend with VSCDA\nSept. 18-20\, 2026 \n\n\nWith a rich history and an unwavering commitment to preserving the legacy of vintage racing\, this three-day racing spectacle promises to captivate enthusiasts and newcomers alike. Over 300 meticulously restored vintage and historic race cars\, spanning 11 racing classes\, will grace the iconic Road America track\, presenting a mesmerizing journey through automotive history. From the graceful curves of classic sports cars to the raw power of muscle machines\, every era and every passion will be showcased. \nA unique highlight of the event is the open-access paddock\, inviting spectators to immerse themselves in the world of vintage racing. This is a rare opportunity to get up close and personal with these magnificent racing machines\, each prepared to era specifications\, and witness the dedication and craftsmanship of maintaining these automotive treasures.
URL:https://fv.pca.org/index.php/calendar/art-on-wheels-vintage-weekend-at-road-america/
LOCATION:Road America\, N7390 Hwy 67\, Plymouth\, 53073\, United States
CATEGORIES:Non-PCA Event
END:VEVENT
END:VCALENDAR