BEGIN:VCALENDAR
VERSION:2.0
PRODID:-//Fox Valley Region - Porsche Club of America - ECPv6.15.18//NONSGML v1.0//EN
CALSCALE:GREGORIAN
METHOD:PUBLISH
X-WR-CALNAME:Fox Valley Region - Porsche Club of America
X-ORIGINAL-URL:https://fv.pca.org
X-WR-CALDESC:Events for Fox Valley Region - Porsche Club of America
REFRESH-INTERVAL;VALUE=DURATION:PT1H
X-Robots-Tag:noindex
X-PUBLISHED-TTL:PT1H
BEGIN:VTIMEZONE
TZID:America/Chicago
BEGIN:DAYLIGHT
TZOFFSETFROM:-0600
TZOFFSETTO:-0500
TZNAME:CDT
DTSTART:20250309T080000
END:DAYLIGHT
BEGIN:STANDARD
TZOFFSETFROM:-0500
TZOFFSETTO:-0600
TZNAME:CST
DTSTART:20251102T070000
END:STANDARD
BEGIN:DAYLIGHT
TZOFFSETFROM:-0600
TZOFFSETTO:-0500
TZNAME:CDT
DTSTART:20260308T080000
END:DAYLIGHT
BEGIN:STANDARD
TZOFFSETFROM:-0500
TZOFFSETTO:-0600
TZNAME:CST
DTSTART:20261101T070000
END:STANDARD
BEGIN:DAYLIGHT
TZOFFSETFROM:-0600
TZOFFSETTO:-0500
TZNAME:CDT
DTSTART:20270314T080000
END:DAYLIGHT
BEGIN:STANDARD
TZOFFSETFROM:-0500
TZOFFSETTO:-0600
TZNAME:CST
DTSTART:20271107T070000
END:STANDARD
END:VTIMEZONE
BEGIN:VEVENT
DTSTART;TZID=America/Chicago:20260711T080000
DTEND;TZID=America/Chicago:20260711T110000
DTSTAMP:20260423T073749
CREATED:20260226T223046Z
LAST-MODIFIED:20260226T223046Z
UID:41107-1783756800-1783767600@fv.pca.org
SUMMARY:Cars & Coffee at The Throttlestop
DESCRIPTION:Start Your Engines: Cars & Coffee at The Throttlestop\nPresented by Wegner Automotive\nPrepare for the most electric season in Throttlestop history! This year\, we are driving change with our new “Passion for Purpose” initiative\, proudly partnering with The United Way of Sheboygan County to give back to the community we call home. \nWe’ve assembled an elite lineup of sponsors to make this year better than ever. We are thrilled to welcome Wegner Automotive\, curators of some of the baddest racing engines on the planet\, as our title sponsor. Alongside them\, West Bend Dyno and Milwaukee Tool will be on-site with massive displays and some of the most exciting new builds in the country! \nThe Details:\n\n\nWhen:  Sat. July 11th\, 2026 8:00 AM to 11:00 AM\n\n\nThe Vibe: Jaw-dropping revs\, breathtaking displays\, and great conversation.\n\n\nFood: Fresh donuts from Johnston’s Bakery.\n\n\nFuel: Stone Creek Coffee\, provided by West Bend Dyno.\n\n\nCost: Free for the whole family!\n\n\nWhether you are here for the precision of a Wegner-built powerhouse or the latest gear from Milwaukee Tool\, you won’t want to miss this. Grab a coffee\, bring the family\, and let’s talk shop. See you at the showroom!
URL:https://fv.pca.org/index.php/calendar/cars-coffee-at-the-throttlestop/
LOCATION:The Throttlestop\, 20 Victory Lane\, Elkhart Lake\, WI\, 53020\, United States
CATEGORIES:Non-PCA Event
END:VEVENT
BEGIN:VEVENT
DTSTART;VALUE=DATE:20260716
DTEND;VALUE=DATE:20260720
DTSTAMP:20260423T073749
CREATED:20260226T220845Z
LAST-MODIFIED:20260226T220845Z
UID:41089-1784160000-1784505599@fv.pca.org
SUMMARY:Weathertech Vintage Weekend with Brian Redman at Road America
DESCRIPTION:The WeatherTech® Vintage Weekend with Brian Redman at Road America\, taking place July 16-19\, 2026\, one of the largest vintage racing events in the United States. The WeatherTech® Vintage Weekend features over 400 vintage and historic racecars competing across several days.
URL:https://fv.pca.org/index.php/calendar/weathertech-vintage-weekend-with-brian-redman-at-road-america/
LOCATION:Road America\, N7390 Hwy 67\, Plymouth\, 53073\, United States
CATEGORIES:Non-PCA Event
END:VEVENT
BEGIN:VEVENT
DTSTART;TZID=America/Chicago:20260726T130000
DTEND;TZID=America/Chicago:20260726T170000
DTSTAMP:20260423T073749
CREATED:20260226T221458Z
LAST-MODIFIED:20260226T221458Z
UID:41091-1785070800-1785085200@fv.pca.org
SUMMARY:Annual Porsche Potluck at Trout Springs Winery
DESCRIPTION:The Annual Trout Springs Potluck will be held on July 26th at the winery. Last year\nSteve DeBaker show us some of the Italian statuary that he is installing at the winery.\nThis year they have added ax throwing. The axes are non lethal\, made of plastic\, and Steve\nsays they create a fun competition. The time for the potluck is 1:00 PM. Everyone will be\nrequired to bring a dish to pass around\, and Trout Springs Winery will do Annie’s famous\nhamburgers. People can call ahead to coordinate dishes\, or tell us what they will be bringing when they RSVP. \nPlease RSVP by July 19th so Steve and Andrea can plan for the head count. The Winery is located at 8150 River Rd\, Greenleaf\, WI 54126. You can RSVP by calling the winery at 920-864-7761 or by emailing stevenjosephdebaker@gmail.com. The website link can be found at:\nhttps://www.troutspringswinery.com
URL:https://fv.pca.org/index.php/calendar/annual-porsche-potluck-at-trout-springs-winery/
LOCATION:Trout Springs Winery\, 8150 River Rd\, Greenleaf\, WI\, 54126\, United States
CATEGORIES:Fox Valley PCA Related
END:VEVENT
BEGIN:VEVENT
DTSTART;VALUE=DATE:20260730
DTEND;VALUE=DATE:20260803
DTSTAMP:20260423T073749
CREATED:20260226T221907Z
LAST-MODIFIED:20260226T221907Z
UID:41096-1785369600-1785715199@fv.pca.org
SUMMARY:Motul SportsCar Endurance Grand Prix Featuring IMSA at Road America
DESCRIPTION:Motul SportsCar Endurance Grand Prix Featuring IMSA\nJuly 30 – August 2\, 2026 \nNorth America’s premier sportscar series returns to America’s National Park of Speed\, bringing several familiar names for race fans and a handful of down-to-the-wire battles. IMSA races feature elite sportscars from nearly 20 different manufacturers\, including Mercedes\, Ferrari\, Chevrolet\, and Aston Martin. The skill of the drivers\, paired with advanced automotive technology\, creates a high-stakes\, adrenaline-fueled race weekend you do not want to miss. The midsummer WeatherTech Championship race at Road America will evolve into a six-hour endurance event in 2026\, with Motul continuing as the title sponsor. The new format aligns Road America  with endurance classics such as the Rolex 24 at Daytona\, Mobil 1 Twelve Hours of Sebring\, Sahlen’s Six Hours of The Glen\, and Motul Petit Le Mans.
URL:https://fv.pca.org/index.php/calendar/motul-sportscar-endurance-grand-prix-featuring-imsa-at-road-america/
LOCATION:Road America\, N7390 Hwy 67\, Plymouth\, 53073\, United States
CATEGORIES:Non-PCA Event
END:VEVENT
END:VCALENDAR